BEGIN:VCALENDAR
PRODID:Appointment
CALSCALE:GREGORIAN
VERSION:2.0
BEGIN:VEVENT
DTSTAMP:20260421T123348Z
DTSTART:20260127T112600
DTEND:20260127T122600
SUMMARY:Rentenaktion in Berlin
UID:4c57b940-0813-455f-b743-3a1f69113b3d
DESCRIPTION:Teaser-Text KURZ...
LOCATION:Berlin\, vor dem Bundestag
END:VEVENT
END:VCALENDAR
